BEGIN:VCALENDAR
VERSION:2.0
PRODID:-//Classic City Rotary - ECPv6.15.20//NONSGML v1.0//EN
CALSCALE:GREGORIAN
METHOD:PUBLISH
X-WR-CALNAME:Classic City Rotary
X-ORIGINAL-URL:https://classiccityrotary.org
X-WR-CALDESC:Events for Classic City Rotary
REFRESH-INTERVAL;VALUE=DURATION:PT1H
X-Robots-Tag:noindex
X-PUBLISHED-TTL:PT1H
BEGIN:VTIMEZONE
TZID:America/New_York
BEGIN:DAYLIGHT
TZOFFSETFROM:-0500
TZOFFSETTO:-0400
TZNAME:EDT
DTSTART:20220313T070000
END:DAYLIGHT
BEGIN:STANDARD
TZOFFSETFROM:-0400
TZOFFSETTO:-0500
TZNAME:EST
DTSTART:20221106T060000
END:STANDARD
BEGIN:DAYLIGHT
TZOFFSETFROM:-0500
TZOFFSETTO:-0400
TZNAME:EDT
DTSTART:20230312T070000
END:DAYLIGHT
BEGIN:STANDARD
TZOFFSETFROM:-0400
TZOFFSETTO:-0500
TZNAME:EST
DTSTART:20231105T060000
END:STANDARD
BEGIN:DAYLIGHT
TZOFFSETFROM:-0500
TZOFFSETTO:-0400
TZNAME:EDT
DTSTART:20240310T070000
END:DAYLIGHT
BEGIN:STANDARD
TZOFFSETFROM:-0400
TZOFFSETTO:-0500
TZNAME:EST
DTSTART:20241103T060000
END:STANDARD
END:VTIMEZONE
BEGIN:VEVENT
DTSTART;TZID=America/New_York:20230427T133000
DTEND;TZID=America/New_York:20230430T120000
DTSTAMP:20260425T062623
CREATED:20230206T141237Z
LAST-MODIFIED:20230206T141237Z
UID:10000005-1682602200-1682856000@classiccityrotary.org
SUMMARY:Rotary District 6910 Conference
DESCRIPTION:Come celebrate our successful year with DG Gerry Taylor\, club leadership\, and Rotarians from across north Georgia! View details.
URL:https://classiccityrotary.org/event/rotary-district-6910-conference/
LOCATION:The Westin Chattanooga\, 801 Pine Street\, Chattanooga\, TN\, 37402\, United States
END:VEVENT
END:VCALENDAR