BEGIN:VCALENDAR
VERSION:2.0
PRODID:-//Classic City Rotary - ECPv6.15.20//NONSGML v1.0//EN
CALSCALE:GREGORIAN
METHOD:PUBLISH
X-ORIGINAL-URL:https://classiccityrotary.org
X-WR-CALDESC:Events for Classic City Rotary
REFRESH-INTERVAL;VALUE=DURATION:PT1H
X-Robots-Tag:noindex
X-PUBLISHED-TTL:PT1H
BEGIN:VTIMEZONE
TZID:America/New_York
BEGIN:DAYLIGHT
TZOFFSETFROM:-0500
TZOFFSETTO:-0400
TZNAME:EDT
DTSTART:20220313T070000
END:DAYLIGHT
BEGIN:STANDARD
TZOFFSETFROM:-0400
TZOFFSETTO:-0500
TZNAME:EST
DTSTART:20221106T060000
END:STANDARD
BEGIN:DAYLIGHT
TZOFFSETFROM:-0500
TZOFFSETTO:-0400
TZNAME:EDT
DTSTART:20230312T070000
END:DAYLIGHT
BEGIN:STANDARD
TZOFFSETFROM:-0400
TZOFFSETTO:-0500
TZNAME:EST
DTSTART:20231105T060000
END:STANDARD
BEGIN:DAYLIGHT
TZOFFSETFROM:-0500
TZOFFSETTO:-0400
TZNAME:EDT
DTSTART:20240310T070000
END:DAYLIGHT
BEGIN:STANDARD
TZOFFSETFROM:-0400
TZOFFSETTO:-0500
TZNAME:EST
DTSTART:20241103T060000
END:STANDARD
END:VTIMEZONE
BEGIN:VEVENT
DTSTART;TZID=America/New_York:20230504T190000
DTEND;TZID=America/New_York:20230504T220000
DTSTAMP:20260422T084624
CREATED:20230206T182052Z
LAST-MODIFIED:20230206T182052Z
UID:10000006-1683226800-1683237600@classiccityrotary.org
SUMMARY:Vic Chesnutt Songwriter of the Year Awards Ceremony
DESCRIPTION:The Vic Chesnutt Songwriter of the Year Awards were established in 2016 to celebrate and amplify the creative voices of the Athens songwriting community. The awards\, which carries a cash prize\, are named in honor of Vic Chesnutt\, an internationally renowned singer-songwriter from Athens\, and are presented by the Classic City Rotary Club. \nFor tickets or sponsorship information\, contact Ellen Bryson (ellen@brysontrails.com).
URL:https://classiccityrotary.org/event/vic-chesnutt-songwriter-of-the-year-awards-ceremony/
LOCATION:The 40 Watt\, 285 West Washington Street\, Athens\, GA\, 30601\, United States
END:VEVENT
END:VCALENDAR