BEGIN:VCALENDAR
VERSION:2.0
PRODID:-//Classic City Rotary - ECPv6.15.20//NONSGML v1.0//EN
CALSCALE:GREGORIAN
METHOD:PUBLISH
X-WR-CALNAME:Classic City Rotary
X-ORIGINAL-URL:https://classiccityrotary.org
X-WR-CALDESC:Events for Classic City Rotary
REFRESH-INTERVAL;VALUE=DURATION:PT1H
X-Robots-Tag:noindex
X-PUBLISHED-TTL:PT1H
BEGIN:VTIMEZONE
TZID:America/New_York
BEGIN:DAYLIGHT
TZOFFSETFROM:-0500
TZOFFSETTO:-0400
TZNAME:EDT
DTSTART:20280312T070000
END:DAYLIGHT
BEGIN:STANDARD
TZOFFSETFROM:-0400
TZOFFSETTO:-0500
TZNAME:EST
DTSTART:20281105T060000
END:STANDARD
BEGIN:DAYLIGHT
TZOFFSETFROM:-0500
TZOFFSETTO:-0400
TZNAME:EDT
DTSTART:20290311T070000
END:DAYLIGHT
BEGIN:STANDARD
TZOFFSETFROM:-0400
TZOFFSETTO:-0500
TZNAME:EST
DTSTART:20291104T060000
END:STANDARD
BEGIN:DAYLIGHT
TZOFFSETFROM:-0500
TZOFFSETTO:-0400
TZNAME:EDT
DTSTART:20300310T070000
END:DAYLIGHT
BEGIN:STANDARD
TZOFFSETFROM:-0400
TZOFFSETTO:-0500
TZNAME:EST
DTSTART:20301103T060000
END:STANDARD
BEGIN:DAYLIGHT
TZOFFSETFROM:-0500
TZOFFSETTO:-0400
TZNAME:EDT
DTSTART:20310309T070000
END:DAYLIGHT
BEGIN:STANDARD
TZOFFSETFROM:-0400
TZOFFSETTO:-0500
TZNAME:EST
DTSTART:20311102T060000
END:STANDARD
END:VTIMEZONE
BEGIN:VEVENT
DTSTART;TZID=America/New_York:20291231T120000
DTEND;TZID=America/New_York:20291231T130000
DTSTAMP:20260423T092120
CREATED:20240808T155340Z
LAST-MODIFIED:20240808T155747Z
UID:10000298-1893412800-1893416400@classiccityrotary.org
SUMMARY:Our Weekly Meeting
DESCRIPTION:Join us every Monday from 12pm to 1pm at Epting Catering for a dynamic Rotary Club meeting with a delicious lunch provided.  Connect with fellow community leaders and make a difference together!  To see our guest speakers\, please see our list of upcoming speakers by visiting our Events/Speakers page or by selecting here.
URL:https://classiccityrotary.org/event/our-weekly-meeting-at-epting-catering/2029-12-31/
LOCATION:Epting Catering\, 1430 North Chase Street\, Athens\, 30601\, United States
END:VEVENT
BEGIN:VEVENT
DTSTART;TZID=America/New_York:20300107T120000
DTEND;TZID=America/New_York:20300107T130000
DTSTAMP:20260423T092120
CREATED:20240808T155340Z
LAST-MODIFIED:20240808T155747Z
UID:10000299-1894017600-1894021200@classiccityrotary.org
SUMMARY:Our Weekly Meeting
DESCRIPTION:Join us every Monday from 12pm to 1pm at Epting Catering for a dynamic Rotary Club meeting with a delicious lunch provided.  Connect with fellow community leaders and make a difference together!  To see our guest speakers\, please see our list of upcoming speakers by visiting our Events/Speakers page or by selecting here.
URL:https://classiccityrotary.org/event/our-weekly-meeting-at-epting-catering/2030-01-07/
LOCATION:Epting Catering\, 1430 North Chase Street\, Athens\, 30601\, United States
END:VEVENT
BEGIN:VEVENT
DTSTART;TZID=America/New_York:20300114T120000
DTEND;TZID=America/New_York:20300114T130000
DTSTAMP:20260423T092120
CREATED:20240808T155340Z
LAST-MODIFIED:20240808T155747Z
UID:10000300-1894622400-1894626000@classiccityrotary.org
SUMMARY:Our Weekly Meeting
DESCRIPTION:Join us every Monday from 12pm to 1pm at Epting Catering for a dynamic Rotary Club meeting with a delicious lunch provided.  Connect with fellow community leaders and make a difference together!  To see our guest speakers\, please see our list of upcoming speakers by visiting our Events/Speakers page or by selecting here.
URL:https://classiccityrotary.org/event/our-weekly-meeting-at-epting-catering/2030-01-14/
LOCATION:Epting Catering\, 1430 North Chase Street\, Athens\, 30601\, United States
END:VEVENT
BEGIN:VEVENT
DTSTART;TZID=America/New_York:20300121T120000
DTEND;TZID=America/New_York:20300121T130000
DTSTAMP:20260423T092120
CREATED:20240808T155340Z
LAST-MODIFIED:20240808T155747Z
UID:10000301-1895227200-1895230800@classiccityrotary.org
SUMMARY:Our Weekly Meeting
DESCRIPTION:Join us every Monday from 12pm to 1pm at Epting Catering for a dynamic Rotary Club meeting with a delicious lunch provided.  Connect with fellow community leaders and make a difference together!  To see our guest speakers\, please see our list of upcoming speakers by visiting our Events/Speakers page or by selecting here.
URL:https://classiccityrotary.org/event/our-weekly-meeting-at-epting-catering/2030-01-21/
LOCATION:Epting Catering\, 1430 North Chase Street\, Athens\, 30601\, United States
END:VEVENT
BEGIN:VEVENT
DTSTART;TZID=America/New_York:20300128T120000
DTEND;TZID=America/New_York:20300128T130000
DTSTAMP:20260423T092120
CREATED:20240808T155340Z
LAST-MODIFIED:20240808T155747Z
UID:10000302-1895832000-1895835600@classiccityrotary.org
SUMMARY:Our Weekly Meeting
DESCRIPTION:Join us every Monday from 12pm to 1pm at Epting Catering for a dynamic Rotary Club meeting with a delicious lunch provided.  Connect with fellow community leaders and make a difference together!  To see our guest speakers\, please see our list of upcoming speakers by visiting our Events/Speakers page or by selecting here.
URL:https://classiccityrotary.org/event/our-weekly-meeting-at-epting-catering/2030-01-28/
LOCATION:Epting Catering\, 1430 North Chase Street\, Athens\, 30601\, United States
END:VEVENT
BEGIN:VEVENT
DTSTART;TZID=America/New_York:20300204T120000
DTEND;TZID=America/New_York:20300204T130000
DTSTAMP:20260423T092120
CREATED:20240808T155340Z
LAST-MODIFIED:20240808T155747Z
UID:10000303-1896436800-1896440400@classiccityrotary.org
SUMMARY:Our Weekly Meeting
DESCRIPTION:Join us every Monday from 12pm to 1pm at Epting Catering for a dynamic Rotary Club meeting with a delicious lunch provided.  Connect with fellow community leaders and make a difference together!  To see our guest speakers\, please see our list of upcoming speakers by visiting our Events/Speakers page or by selecting here.
URL:https://classiccityrotary.org/event/our-weekly-meeting-at-epting-catering/2030-02-04/
LOCATION:Epting Catering\, 1430 North Chase Street\, Athens\, 30601\, United States
END:VEVENT
BEGIN:VEVENT
DTSTART;TZID=America/New_York:20300211T120000
DTEND;TZID=America/New_York:20300211T130000
DTSTAMP:20260423T092120
CREATED:20240808T155340Z
LAST-MODIFIED:20240808T155747Z
UID:10000304-1897041600-1897045200@classiccityrotary.org
SUMMARY:Our Weekly Meeting
DESCRIPTION:Join us every Monday from 12pm to 1pm at Epting Catering for a dynamic Rotary Club meeting with a delicious lunch provided.  Connect with fellow community leaders and make a difference together!  To see our guest speakers\, please see our list of upcoming speakers by visiting our Events/Speakers page or by selecting here.
URL:https://classiccityrotary.org/event/our-weekly-meeting-at-epting-catering/2030-02-11/
LOCATION:Epting Catering\, 1430 North Chase Street\, Athens\, 30601\, United States
END:VEVENT
BEGIN:VEVENT
DTSTART;TZID=America/New_York:20300218T120000
DTEND;TZID=America/New_York:20300218T130000
DTSTAMP:20260423T092120
CREATED:20240808T155340Z
LAST-MODIFIED:20240808T155747Z
UID:10000305-1897646400-1897650000@classiccityrotary.org
SUMMARY:Our Weekly Meeting
DESCRIPTION:Join us every Monday from 12pm to 1pm at Epting Catering for a dynamic Rotary Club meeting with a delicious lunch provided.  Connect with fellow community leaders and make a difference together!  To see our guest speakers\, please see our list of upcoming speakers by visiting our Events/Speakers page or by selecting here.
URL:https://classiccityrotary.org/event/our-weekly-meeting-at-epting-catering/2030-02-18/
LOCATION:Epting Catering\, 1430 North Chase Street\, Athens\, 30601\, United States
END:VEVENT
BEGIN:VEVENT
DTSTART;TZID=America/New_York:20300225T120000
DTEND;TZID=America/New_York:20300225T130000
DTSTAMP:20260423T092120
CREATED:20240808T155340Z
LAST-MODIFIED:20240808T155747Z
UID:10000306-1898251200-1898254800@classiccityrotary.org
SUMMARY:Our Weekly Meeting
DESCRIPTION:Join us every Monday from 12pm to 1pm at Epting Catering for a dynamic Rotary Club meeting with a delicious lunch provided.  Connect with fellow community leaders and make a difference together!  To see our guest speakers\, please see our list of upcoming speakers by visiting our Events/Speakers page or by selecting here.
URL:https://classiccityrotary.org/event/our-weekly-meeting-at-epting-catering/2030-02-25/
LOCATION:Epting Catering\, 1430 North Chase Street\, Athens\, 30601\, United States
END:VEVENT
BEGIN:VEVENT
DTSTART;TZID=America/New_York:20300304T120000
DTEND;TZID=America/New_York:20300304T130000
DTSTAMP:20260423T092120
CREATED:20240808T155340Z
LAST-MODIFIED:20240808T155747Z
UID:10000307-1898856000-1898859600@classiccityrotary.org
SUMMARY:Our Weekly Meeting
DESCRIPTION:Join us every Monday from 12pm to 1pm at Epting Catering for a dynamic Rotary Club meeting with a delicious lunch provided.  Connect with fellow community leaders and make a difference together!  To see our guest speakers\, please see our list of upcoming speakers by visiting our Events/Speakers page or by selecting here.
URL:https://classiccityrotary.org/event/our-weekly-meeting-at-epting-catering/2030-03-04/
LOCATION:Epting Catering\, 1430 North Chase Street\, Athens\, 30601\, United States
END:VEVENT
BEGIN:VEVENT
DTSTART;TZID=America/New_York:20300311T120000
DTEND;TZID=America/New_York:20300311T130000
DTSTAMP:20260423T092120
CREATED:20240808T155340Z
LAST-MODIFIED:20240808T155747Z
UID:10000308-1899460800-1899464400@classiccityrotary.org
SUMMARY:Our Weekly Meeting
DESCRIPTION:Join us every Monday from 12pm to 1pm at Epting Catering for a dynamic Rotary Club meeting with a delicious lunch provided.  Connect with fellow community leaders and make a difference together!  To see our guest speakers\, please see our list of upcoming speakers by visiting our Events/Speakers page or by selecting here.
URL:https://classiccityrotary.org/event/our-weekly-meeting-at-epting-catering/2030-03-11/
LOCATION:Epting Catering\, 1430 North Chase Street\, Athens\, 30601\, United States
END:VEVENT
BEGIN:VEVENT
DTSTART;TZID=America/New_York:20300318T120000
DTEND;TZID=America/New_York:20300318T130000
DTSTAMP:20260423T092120
CREATED:20240808T155340Z
LAST-MODIFIED:20240808T155747Z
UID:10000309-1900065600-1900069200@classiccityrotary.org
SUMMARY:Our Weekly Meeting
DESCRIPTION:Join us every Monday from 12pm to 1pm at Epting Catering for a dynamic Rotary Club meeting with a delicious lunch provided.  Connect with fellow community leaders and make a difference together!  To see our guest speakers\, please see our list of upcoming speakers by visiting our Events/Speakers page or by selecting here.
URL:https://classiccityrotary.org/event/our-weekly-meeting-at-epting-catering/2030-03-18/
LOCATION:Epting Catering\, 1430 North Chase Street\, Athens\, 30601\, United States
END:VEVENT
BEGIN:VEVENT
DTSTART;TZID=America/New_York:20300325T120000
DTEND;TZID=America/New_York:20300325T130000
DTSTAMP:20260423T092120
CREATED:20240808T155340Z
LAST-MODIFIED:20240808T155747Z
UID:10000310-1900670400-1900674000@classiccityrotary.org
SUMMARY:Our Weekly Meeting
DESCRIPTION:Join us every Monday from 12pm to 1pm at Epting Catering for a dynamic Rotary Club meeting with a delicious lunch provided.  Connect with fellow community leaders and make a difference together!  To see our guest speakers\, please see our list of upcoming speakers by visiting our Events/Speakers page or by selecting here.
URL:https://classiccityrotary.org/event/our-weekly-meeting-at-epting-catering/2030-03-25/
LOCATION:Epting Catering\, 1430 North Chase Street\, Athens\, 30601\, United States
END:VEVENT
BEGIN:VEVENT
DTSTART;TZID=America/New_York:20300401T120000
DTEND;TZID=America/New_York:20300401T130000
DTSTAMP:20260423T092120
CREATED:20240808T155340Z
LAST-MODIFIED:20240808T155747Z
UID:10000311-1901275200-1901278800@classiccityrotary.org
SUMMARY:Our Weekly Meeting
DESCRIPTION:Join us every Monday from 12pm to 1pm at Epting Catering for a dynamic Rotary Club meeting with a delicious lunch provided.  Connect with fellow community leaders and make a difference together!  To see our guest speakers\, please see our list of upcoming speakers by visiting our Events/Speakers page or by selecting here.
URL:https://classiccityrotary.org/event/our-weekly-meeting-at-epting-catering/2030-04-01/
LOCATION:Epting Catering\, 1430 North Chase Street\, Athens\, 30601\, United States
END:VEVENT
BEGIN:VEVENT
DTSTART;TZID=America/New_York:20300408T120000
DTEND;TZID=America/New_York:20300408T130000
DTSTAMP:20260423T092120
CREATED:20240808T155340Z
LAST-MODIFIED:20240808T155747Z
UID:10000312-1901880000-1901883600@classiccityrotary.org
SUMMARY:Our Weekly Meeting
DESCRIPTION:Join us every Monday from 12pm to 1pm at Epting Catering for a dynamic Rotary Club meeting with a delicious lunch provided.  Connect with fellow community leaders and make a difference together!  To see our guest speakers\, please see our list of upcoming speakers by visiting our Events/Speakers page or by selecting here.
URL:https://classiccityrotary.org/event/our-weekly-meeting-at-epting-catering/2030-04-08/
LOCATION:Epting Catering\, 1430 North Chase Street\, Athens\, 30601\, United States
END:VEVENT
BEGIN:VEVENT
DTSTART;TZID=America/New_York:20300415T120000
DTEND;TZID=America/New_York:20300415T130000
DTSTAMP:20260423T092120
CREATED:20240808T155340Z
LAST-MODIFIED:20240808T155747Z
UID:10000313-1902484800-1902488400@classiccityrotary.org
SUMMARY:Our Weekly Meeting
DESCRIPTION:Join us every Monday from 12pm to 1pm at Epting Catering for a dynamic Rotary Club meeting with a delicious lunch provided.  Connect with fellow community leaders and make a difference together!  To see our guest speakers\, please see our list of upcoming speakers by visiting our Events/Speakers page or by selecting here.
URL:https://classiccityrotary.org/event/our-weekly-meeting-at-epting-catering/2030-04-15/
LOCATION:Epting Catering\, 1430 North Chase Street\, Athens\, 30601\, United States
END:VEVENT
BEGIN:VEVENT
DTSTART;TZID=America/New_York:20300422T120000
DTEND;TZID=America/New_York:20300422T130000
DTSTAMP:20260423T092120
CREATED:20240808T155340Z
LAST-MODIFIED:20240808T155747Z
UID:10000314-1903089600-1903093200@classiccityrotary.org
SUMMARY:Our Weekly Meeting
DESCRIPTION:Join us every Monday from 12pm to 1pm at Epting Catering for a dynamic Rotary Club meeting with a delicious lunch provided.  Connect with fellow community leaders and make a difference together!  To see our guest speakers\, please see our list of upcoming speakers by visiting our Events/Speakers page or by selecting here.
URL:https://classiccityrotary.org/event/our-weekly-meeting-at-epting-catering/2030-04-22/
LOCATION:Epting Catering\, 1430 North Chase Street\, Athens\, 30601\, United States
END:VEVENT
BEGIN:VEVENT
DTSTART;TZID=America/New_York:20300429T120000
DTEND;TZID=America/New_York:20300429T130000
DTSTAMP:20260423T092120
CREATED:20240808T155340Z
LAST-MODIFIED:20240808T155747Z
UID:10000315-1903694400-1903698000@classiccityrotary.org
SUMMARY:Our Weekly Meeting
DESCRIPTION:Join us every Monday from 12pm to 1pm at Epting Catering for a dynamic Rotary Club meeting with a delicious lunch provided.  Connect with fellow community leaders and make a difference together!  To see our guest speakers\, please see our list of upcoming speakers by visiting our Events/Speakers page or by selecting here.
URL:https://classiccityrotary.org/event/our-weekly-meeting-at-epting-catering/2030-04-29/
LOCATION:Epting Catering\, 1430 North Chase Street\, Athens\, 30601\, United States
END:VEVENT
BEGIN:VEVENT
DTSTART;TZID=America/New_York:20300506T120000
DTEND;TZID=America/New_York:20300506T130000
DTSTAMP:20260423T092120
CREATED:20240808T155340Z
LAST-MODIFIED:20240808T155747Z
UID:10000316-1904299200-1904302800@classiccityrotary.org
SUMMARY:Our Weekly Meeting
DESCRIPTION:Join us every Monday from 12pm to 1pm at Epting Catering for a dynamic Rotary Club meeting with a delicious lunch provided.  Connect with fellow community leaders and make a difference together!  To see our guest speakers\, please see our list of upcoming speakers by visiting our Events/Speakers page or by selecting here.
URL:https://classiccityrotary.org/event/our-weekly-meeting-at-epting-catering/2030-05-06/
LOCATION:Epting Catering\, 1430 North Chase Street\, Athens\, 30601\, United States
END:VEVENT
BEGIN:VEVENT
DTSTART;TZID=America/New_York:20300513T120000
DTEND;TZID=America/New_York:20300513T130000
DTSTAMP:20260423T092120
CREATED:20240808T155340Z
LAST-MODIFIED:20240808T155747Z
UID:10000317-1904904000-1904907600@classiccityrotary.org
SUMMARY:Our Weekly Meeting
DESCRIPTION:Join us every Monday from 12pm to 1pm at Epting Catering for a dynamic Rotary Club meeting with a delicious lunch provided.  Connect with fellow community leaders and make a difference together!  To see our guest speakers\, please see our list of upcoming speakers by visiting our Events/Speakers page or by selecting here.
URL:https://classiccityrotary.org/event/our-weekly-meeting-at-epting-catering/2030-05-13/
LOCATION:Epting Catering\, 1430 North Chase Street\, Athens\, 30601\, United States
END:VEVENT
BEGIN:VEVENT
DTSTART;TZID=America/New_York:20300520T120000
DTEND;TZID=America/New_York:20300520T130000
DTSTAMP:20260423T092120
CREATED:20240808T155340Z
LAST-MODIFIED:20240808T155747Z
UID:10000318-1905508800-1905512400@classiccityrotary.org
SUMMARY:Our Weekly Meeting
DESCRIPTION:Join us every Monday from 12pm to 1pm at Epting Catering for a dynamic Rotary Club meeting with a delicious lunch provided.  Connect with fellow community leaders and make a difference together!  To see our guest speakers\, please see our list of upcoming speakers by visiting our Events/Speakers page or by selecting here.
URL:https://classiccityrotary.org/event/our-weekly-meeting-at-epting-catering/2030-05-20/
LOCATION:Epting Catering\, 1430 North Chase Street\, Athens\, 30601\, United States
END:VEVENT
BEGIN:VEVENT
DTSTART;TZID=America/New_York:20300527T120000
DTEND;TZID=America/New_York:20300527T130000
DTSTAMP:20260423T092120
CREATED:20240808T155340Z
LAST-MODIFIED:20240808T155747Z
UID:10000319-1906113600-1906117200@classiccityrotary.org
SUMMARY:Our Weekly Meeting
DESCRIPTION:Join us every Monday from 12pm to 1pm at Epting Catering for a dynamic Rotary Club meeting with a delicious lunch provided.  Connect with fellow community leaders and make a difference together!  To see our guest speakers\, please see our list of upcoming speakers by visiting our Events/Speakers page or by selecting here.
URL:https://classiccityrotary.org/event/our-weekly-meeting-at-epting-catering/2030-05-27/
LOCATION:Epting Catering\, 1430 North Chase Street\, Athens\, 30601\, United States
END:VEVENT
BEGIN:VEVENT
DTSTART;TZID=America/New_York:20300603T120000
DTEND;TZID=America/New_York:20300603T130000
DTSTAMP:20260423T092120
CREATED:20240808T155340Z
LAST-MODIFIED:20240808T155747Z
UID:10000320-1906718400-1906722000@classiccityrotary.org
SUMMARY:Our Weekly Meeting
DESCRIPTION:Join us every Monday from 12pm to 1pm at Epting Catering for a dynamic Rotary Club meeting with a delicious lunch provided.  Connect with fellow community leaders and make a difference together!  To see our guest speakers\, please see our list of upcoming speakers by visiting our Events/Speakers page or by selecting here.
URL:https://classiccityrotary.org/event/our-weekly-meeting-at-epting-catering/2030-06-03/
LOCATION:Epting Catering\, 1430 North Chase Street\, Athens\, 30601\, United States
END:VEVENT
BEGIN:VEVENT
DTSTART;TZID=America/New_York:20300610T120000
DTEND;TZID=America/New_York:20300610T130000
DTSTAMP:20260423T092120
CREATED:20240808T155340Z
LAST-MODIFIED:20240808T155747Z
UID:10000321-1907323200-1907326800@classiccityrotary.org
SUMMARY:Our Weekly Meeting
DESCRIPTION:Join us every Monday from 12pm to 1pm at Epting Catering for a dynamic Rotary Club meeting with a delicious lunch provided.  Connect with fellow community leaders and make a difference together!  To see our guest speakers\, please see our list of upcoming speakers by visiting our Events/Speakers page or by selecting here.
URL:https://classiccityrotary.org/event/our-weekly-meeting-at-epting-catering/2030-06-10/
LOCATION:Epting Catering\, 1430 North Chase Street\, Athens\, 30601\, United States
END:VEVENT
BEGIN:VEVENT
DTSTART;TZID=America/New_York:20300617T120000
DTEND;TZID=America/New_York:20300617T130000
DTSTAMP:20260423T092120
CREATED:20240808T155340Z
LAST-MODIFIED:20240808T155747Z
UID:10000322-1907928000-1907931600@classiccityrotary.org
SUMMARY:Our Weekly Meeting
DESCRIPTION:Join us every Monday from 12pm to 1pm at Epting Catering for a dynamic Rotary Club meeting with a delicious lunch provided.  Connect with fellow community leaders and make a difference together!  To see our guest speakers\, please see our list of upcoming speakers by visiting our Events/Speakers page or by selecting here.
URL:https://classiccityrotary.org/event/our-weekly-meeting-at-epting-catering/2030-06-17/
LOCATION:Epting Catering\, 1430 North Chase Street\, Athens\, 30601\, United States
END:VEVENT
BEGIN:VEVENT
DTSTART;TZID=America/New_York:20300624T120000
DTEND;TZID=America/New_York:20300624T130000
DTSTAMP:20260423T092120
CREATED:20240808T155340Z
LAST-MODIFIED:20240808T155747Z
UID:10000323-1908532800-1908536400@classiccityrotary.org
SUMMARY:Our Weekly Meeting
DESCRIPTION:Join us every Monday from 12pm to 1pm at Epting Catering for a dynamic Rotary Club meeting with a delicious lunch provided.  Connect with fellow community leaders and make a difference together!  To see our guest speakers\, please see our list of upcoming speakers by visiting our Events/Speakers page or by selecting here.
URL:https://classiccityrotary.org/event/our-weekly-meeting-at-epting-catering/2030-06-24/
LOCATION:Epting Catering\, 1430 North Chase Street\, Athens\, 30601\, United States
END:VEVENT
BEGIN:VEVENT
DTSTART;TZID=America/New_York:20300701T120000
DTEND;TZID=America/New_York:20300701T130000
DTSTAMP:20260423T092120
CREATED:20240808T155340Z
LAST-MODIFIED:20240808T155747Z
UID:10000324-1909137600-1909141200@classiccityrotary.org
SUMMARY:Our Weekly Meeting
DESCRIPTION:Join us every Monday from 12pm to 1pm at Epting Catering for a dynamic Rotary Club meeting with a delicious lunch provided.  Connect with fellow community leaders and make a difference together!  To see our guest speakers\, please see our list of upcoming speakers by visiting our Events/Speakers page or by selecting here.
URL:https://classiccityrotary.org/event/our-weekly-meeting-at-epting-catering/2030-07-01/
LOCATION:Epting Catering\, 1430 North Chase Street\, Athens\, 30601\, United States
END:VEVENT
BEGIN:VEVENT
DTSTART;TZID=America/New_York:20300708T120000
DTEND;TZID=America/New_York:20300708T130000
DTSTAMP:20260423T092120
CREATED:20240808T155340Z
LAST-MODIFIED:20240808T155747Z
UID:10000325-1909742400-1909746000@classiccityrotary.org
SUMMARY:Our Weekly Meeting
DESCRIPTION:Join us every Monday from 12pm to 1pm at Epting Catering for a dynamic Rotary Club meeting with a delicious lunch provided.  Connect with fellow community leaders and make a difference together!  To see our guest speakers\, please see our list of upcoming speakers by visiting our Events/Speakers page or by selecting here.
URL:https://classiccityrotary.org/event/our-weekly-meeting-at-epting-catering/2030-07-08/
LOCATION:Epting Catering\, 1430 North Chase Street\, Athens\, 30601\, United States
END:VEVENT
BEGIN:VEVENT
DTSTART;TZID=America/New_York:20300715T120000
DTEND;TZID=America/New_York:20300715T130000
DTSTAMP:20260423T092120
CREATED:20240808T155340Z
LAST-MODIFIED:20240808T155747Z
UID:10000326-1910347200-1910350800@classiccityrotary.org
SUMMARY:Our Weekly Meeting
DESCRIPTION:Join us every Monday from 12pm to 1pm at Epting Catering for a dynamic Rotary Club meeting with a delicious lunch provided.  Connect with fellow community leaders and make a difference together!  To see our guest speakers\, please see our list of upcoming speakers by visiting our Events/Speakers page or by selecting here.
URL:https://classiccityrotary.org/event/our-weekly-meeting-at-epting-catering/2030-07-15/
LOCATION:Epting Catering\, 1430 North Chase Street\, Athens\, 30601\, United States
END:VEVENT
BEGIN:VEVENT
DTSTART;TZID=America/New_York:20300722T120000
DTEND;TZID=America/New_York:20300722T130000
DTSTAMP:20260423T092120
CREATED:20240808T155340Z
LAST-MODIFIED:20240808T155747Z
UID:10000327-1910952000-1910955600@classiccityrotary.org
SUMMARY:Our Weekly Meeting
DESCRIPTION:Join us every Monday from 12pm to 1pm at Epting Catering for a dynamic Rotary Club meeting with a delicious lunch provided.  Connect with fellow community leaders and make a difference together!  To see our guest speakers\, please see our list of upcoming speakers by visiting our Events/Speakers page or by selecting here.
URL:https://classiccityrotary.org/event/our-weekly-meeting-at-epting-catering/2030-07-22/
LOCATION:Epting Catering\, 1430 North Chase Street\, Athens\, 30601\, United States
END:VEVENT
END:VCALENDAR